BEGIN:VCALENDAR
VERSION:2.0
PRODID:-//American Advertising Federation Pittsburgh - ECPv6.2.9//NONSGML v1.0//EN
CALSCALE:GREGORIAN
METHOD:PUBLISH
X-WR-CALNAME:American Advertising Federation Pittsburgh
X-ORIGINAL-URL:https://aafpgh.org
X-WR-CALDESC:Events for American Advertising Federation Pittsburgh
REFRESH-INTERVAL;VALUE=DURATION:PT1H
X-Robots-Tag:noindex
X-PUBLISHED-TTL:PT1H
BEGIN:VTIMEZONE
TZID:America/New_York
BEGIN:DAYLIGHT
TZOFFSETFROM:-0500
TZOFFSETTO:-0400
TZNAME:EDT
DTSTART:20250309T070000
END:DAYLIGHT
BEGIN:STANDARD
TZOFFSETFROM:-0400
TZOFFSETTO:-0500
TZNAME:EST
DTSTART:20251102T060000
END:STANDARD
END:VTIMEZONE
BEGIN:VEVENT
DTSTART;VALUE=DATE:20250605
DTEND;VALUE=DATE:20250609
DTSTAMP:20260421T063355
CREATED:20240607T194406Z
LAST-MODIFIED:20250502T153554Z
UID:10000001-1749081600-1749427199@aafpgh.org
SUMMARY:ADMERICA 2025
DESCRIPTION:ADMERICA is the annual conference hosted by the American Advertising Federation. \nThe conference is meant to enhance enthusiasm for the advertising industry and the leadership skills of our grassroots network. During this four-day event\, attendees can anticipate exceptional speakers\, workshops and industry insight designed to elevate each person’s personal and professional approach to excellence. \nSignature events of ADMERICA include the American Advertising Awards finals and the National Student Advertising Competition (NSAC) finals. \nLearn more and register. \nWe’ll see you there!
URL:https://aafpgh.org/event/admerica-2025/
LOCATION:The Westin Pittsburgh\, 1000 Penn Avenue\, Pittsburgh\, PA\, 15222
ATTACH;FMTTYPE=image/png:https://aafpgh.org/wp-content/uploads/2024/06/unnamed-5.png
END:VEVENT
END:VCALENDAR