BEGIN:VCALENDAR
VERSION:2.0
PRODID:-//American Advertising Federation Pittsburgh - ECPv6.2.9//NONSGML v1.0//EN
CALSCALE:GREGORIAN
METHOD:PUBLISH
X-WR-CALNAME:American Advertising Federation Pittsburgh
X-ORIGINAL-URL:https://aafpgh.org
X-WR-CALDESC:Events for American Advertising Federation Pittsburgh
REFRESH-INTERVAL;VALUE=DURATION:PT1H
X-Robots-Tag:noindex
X-PUBLISHED-TTL:PT1H
BEGIN:VTIMEZONE
TZID:America/New_York
BEGIN:DAYLIGHT
TZOFFSETFROM:-0500
TZOFFSETTO:-0400
TZNAME:EDT
DTSTART:20250309T070000
END:DAYLIGHT
BEGIN:STANDARD
TZOFFSETFROM:-0400
TZOFFSETTO:-0500
TZNAME:EST
DTSTART:20251102T060000
END:STANDARD
END:VTIMEZONE
BEGIN:VEVENT
DTSTART;TZID=America/New_York:20250911T170000
DTEND;TZID=America/New_York:20250911T210000
DTSTAMP:20260421T071823
CREATED:20250730T180045Z
LAST-MODIFIED:20250909T222754Z
UID:10000070-1757610000-1757624400@aafpgh.org
SUMMARY:JUICE with a Twist
DESCRIPTION:You’re invited to a night of JUICE with a Twist with our friends\nand the evening’s main squeeze GH Advertising\nat Tequila Cowboy on Thursday\, September 11. \nKaraoke startsin the early evening. \nSinging optional. Cheering required.
URL:https://aafpgh.org/event/juice-with-a-twist-3/
LOCATION:Tequilla Cowboys\, 380 North Shore Drive\, Pittsburgh\, PA\, 15212\, United States
ATTACH;FMTTYPE=image/png:https://aafpgh.org/wp-content/uploads/2025/07/adfed_gh.png
END:VEVENT
END:VCALENDAR